BEGIN:VCALENDAR
VERSION:2.0
PRODID:-//JDE HR - ECPv6.15.20//NONSGML v1.0//EN
CALSCALE:GREGORIAN
METHOD:PUBLISH
X-ORIGINAL-URL:https://www.jdeglobal-hr.com
X-WR-CALDESC:Events for JDE HR
REFRESH-INTERVAL;VALUE=DURATION:PT1H
X-Robots-Tag:noindex
X-PUBLISHED-TTL:PT1H
BEGIN:VTIMEZONE
TZID:UTC
BEGIN:STANDARD
TZOFFSETFROM:+0000
TZOFFSETTO:+0000
TZNAME:UTC
DTSTART:20250101T000000
END:STANDARD
END:VTIMEZONE
BEGIN:VEVENT
DTSTART;VALUE=DATE:20260301
DTEND;VALUE=DATE:20260401
DTSTAMP:20260419T103440
CREATED:20260228T183943Z
LAST-MODIFIED:20260228T184724Z
UID:20082-1772323200-1775001599@www.jdeglobal-hr.com
SUMMARY:Complete Safety Training Video 3
DESCRIPTION:Please complete training video 3 before the end of March.  Click here
URL:https://www.jdeglobal-hr.com/event/complete-safety-training-video-3/
ATTACH;FMTTYPE=image/jpeg:https://www.jdeglobal-hr.com/wp-content/uploads/2023/09/maxresdefault.jpg
END:VEVENT
END:VCALENDAR